Package: systemPipeShiny Version: 1.17.0 Command: /Library/Frameworks/R.framework/Resources/bin/R CMD INSTALL systemPipeShiny StartedAt: 2025-02-04 15:16:23 -0500 (Tue, 04 Feb 2025) EndedAt: 2025-02-04 15:16:28 -0500 (Tue, 04 Feb 2025) EllapsedTime: 5.5 seconds RetCode: 0 Status: OK