Package: systemPipeShiny Version: 1.17.0 Command: rm -rf systemPipeShiny.buildbin-libdir && mkdir systemPipeShiny.buildbin-libdir && /Users/biocbuild/BBS/utils/build-universal.sh systemPipeShiny_1.17.0.tar.gz /Library/Frameworks/R.framework/Resources/bin/R systemPipeShiny.buildbin-libdir StartedAt: 2025-02-10 01:19:52 -0500 (Mon, 10 Feb 2025) EndedAt: 2025-02-10 01:20:16 -0500 (Mon, 10 Feb 2025) EllapsedTime: 24.1 seconds RetCode: 0 Status: OK PackageFile: systemPipeShiny_1.17.0.tgz PackageFileSize: 3.578 MiB