Package: systemPipeShiny Version: 1.17.0 Command: /Library/Frameworks/R.framework/Resources/bin/R CMD build --keep-empty-dirs --no-resave-data systemPipeShiny StartedAt: 2025-02-12 18:32:48 -0500 (Wed, 12 Feb 2025) EndedAt: 2025-02-12 18:33:24 -0500 (Wed, 12 Feb 2025) EllapsedTime: 35.4 seconds RetCode: 0 Status: OK PackageFile: systemPipeShiny_1.17.0.tar.gz PackageFileSize: 4.307 MiB