Package: systemPipeShiny Version: 1.17.0 Command: /home/biocbuild/bbs-3.21-bioc/R/bin/R CMD INSTALL systemPipeShiny StartedAt: 2025-02-09 15:09:45 -0500 (Sun, 09 Feb 2025) EndedAt: 2025-02-09 15:10:03 -0500 (Sun, 09 Feb 2025) EllapsedTime: 17.9 seconds RetCode: 0 Status: OK