Package: systemPipeShiny Version: 1.17.0 Command: chmod a+r systemPipeShiny -R && E:\biocbuild\bbs-3.21-bioc\R\bin\R.exe CMD build --keep-empty-dirs --no-resave-data systemPipeShiny StartedAt: 2025-02-09 22:01:23 -0500 (Sun, 09 Feb 2025) EndedAt: 2025-02-09 22:02:39 -0500 (Sun, 09 Feb 2025) EllapsedTime: 76.7 seconds RetCode: 0 Status: OK PackageFile: systemPipeShiny_1.17.0.tar.gz PackageFileSize: 4.307 MiB