Package: systemPipeShiny Version: 1.17.0 Command: E:\biocbuild\bbs-3.21-bioc\R\bin\R.exe CMD INSTALL systemPipeShiny StartedAt: 2025-02-09 15:46:28 -0500 (Sun, 09 Feb 2025) EndedAt: 2025-02-09 15:48:25 -0500 (Sun, 09 Feb 2025) EllapsedTime: 116.5 seconds RetCode: 0 Status: OK