Package: systemPipeTools Version: 1.15.0 Command: /home/biocbuild/R/R/bin/R CMD build --keep-empty-dirs --no-resave-data systemPipeTools StartedAt: 2025-01-28 02:51:30 -0000 (Tue, 28 Jan 2025) EndedAt: 2025-01-28 02:52:59 -0000 (Tue, 28 Jan 2025) EllapsedTime: 89.1 seconds RetCode: 0 Status: OK PackageFile: systemPipeTools_1.15.0.tar.gz PackageFileSize: 717.4 KiB