Package: systemPipeTools Version: 1.15.0 Command: /home/biocbuild/R/R/bin/R CMD check --install=check:systemPipeTools.install-out.txt --library=/home/biocbuild/R/R/site-library --no-vignettes --timings systemPipeTools_1.15.0.tar.gz StartedAt: 2025-01-28 15:59:10 -0000 (Tue, 28 Jan 2025) EndedAt: 2025-01-28 16:04:52 -0000 (Tue, 28 Jan 2025) EllapsedTime: 341.5 seconds RetCode: 0 Status: WARNINGS CheckDir: systemPipeTools.Rcheck Warnings: 1