Package: systemPipeTools Version: 1.15.0 Command: rm -rf systemPipeTools.buildbin-libdir && mkdir systemPipeTools.buildbin-libdir && /Users/biocbuild/BBS/utils/build-universal.sh systemPipeTools_1.15.0.tar.gz /Library/Frameworks/R.framework/Resources/bin/R systemPipeTools.buildbin-libdir StartedAt: 2025-02-04 00:59:48 -0500 (Tue, 04 Feb 2025) EndedAt: 2025-02-04 01:00:25 -0500 (Tue, 04 Feb 2025) EllapsedTime: 37.2 seconds RetCode: 0 Status: OK PackageFile: systemPipeTools_1.15.0.tgz PackageFileSize: 1.033 MiB