Package: systemPipeTools Version: 1.15.0 Command: /Library/Frameworks/R.framework/Resources/bin/R CMD check --install=check:systemPipeTools.install-out.txt --library=/Library/Frameworks/R.framework/Resources/library --no-vignettes --timings systemPipeTools_1.15.0.tar.gz StartedAt: 2025-02-03 23:44:48 -0500 (Mon, 03 Feb 2025) EndedAt: 2025-02-03 23:49:49 -0500 (Mon, 03 Feb 2025) EllapsedTime: 301.0 seconds RetCode: 0 Status: WARNINGS CheckDir: systemPipeTools.Rcheck Warnings: 1