Package: systemPipeTools Version: 1.15.0 Command: /Library/Frameworks/R.framework/Resources/bin/R CMD INSTALL systemPipeTools StartedAt: 2025-02-09 15:40:58 -0500 (Sun, 09 Feb 2025) EndedAt: 2025-02-09 15:41:33 -0500 (Sun, 09 Feb 2025) EllapsedTime: 34.9 seconds RetCode: 0 Status: OK