Package: systemPipeTools Version: 1.15.0 Command: rm -rf systemPipeTools.buildbin-libdir && mkdir systemPipeTools.buildbin-libdir && E:\biocbuild\bbs-3.21-bioc\R\bin\R.exe CMD INSTALL --build --library=systemPipeTools.buildbin-libdir systemPipeTools_1.15.0.tar.gz StartedAt: 2025-02-04 09:03:42 -0500 (Tue, 04 Feb 2025) EndedAt: 2025-02-04 09:04:24 -0500 (Tue, 04 Feb 2025) EllapsedTime: 41.9 seconds RetCode: 0 Status: OK PackageFile: systemPipeTools_1.15.0.zip PackageFileSize: 607.9 KiB