Package: systemPipeTools Version: 1.15.0 Command: chmod a+r systemPipeTools -R && E:\biocbuild\bbs-3.21-bioc\R\bin\R.exe CMD build --keep-empty-dirs --no-resave-data systemPipeTools StartedAt: 2025-02-09 22:01:25 -0500 (Sun, 09 Feb 2025) EndedAt: 2025-02-09 22:03:24 -0500 (Sun, 09 Feb 2025) EllapsedTime: 118.4 seconds RetCode: 0 Status: OK PackageFile: systemPipeTools_1.15.0.tar.gz PackageFileSize: 547.9 KiB