Package: systemPipeTools Version: 1.15.0 Command: E:\biocbuild\bbs-3.21-bioc\R\bin\R.exe CMD INSTALL systemPipeTools StartedAt: 2025-02-03 17:07:59 -0500 (Mon, 03 Feb 2025) EndedAt: 2025-02-03 17:08:35 -0500 (Mon, 03 Feb 2025) EllapsedTime: 35.5 seconds RetCode: 0 Status: OK