Package: tLOH Version: 1.15.0 Command: rm -rf tLOH.buildbin-libdir && mkdir tLOH.buildbin-libdir && /Users/biocbuild/BBS/utils/build-universal.sh tLOH_1.15.0.tar.gz /Library/Frameworks/R.framework/Resources/bin/R tLOH.buildbin-libdir StartedAt: 2025-02-09 22:33:41 -0500 (Sun, 09 Feb 2025) EndedAt: 2025-02-09 22:34:01 -0500 (Sun, 09 Feb 2025) EllapsedTime: 19.5 seconds RetCode: 0 Status: OK PackageFile: tLOH_1.15.0.tgz PackageFileSize: 2.513 MiB