Package: tLOH Version: 1.15.0 Command: /Library/Frameworks/R.framework/Resources/bin/R CMD INSTALL tLOH StartedAt: 2025-02-09 15:23:38 -0500 (Sun, 09 Feb 2025) EndedAt: 2025-02-09 15:23:56 -0500 (Sun, 09 Feb 2025) EllapsedTime: 17.8 seconds RetCode: 0 Status: OK