Package: tLOH Version: 1.15.0 Command: /Library/Frameworks/R.framework/Resources/bin/R CMD build --keep-empty-dirs --no-resave-data tLOH StartedAt: 2025-02-04 18:35:33 -0500 (Tue, 04 Feb 2025) EndedAt: 2025-02-04 18:36:48 -0500 (Tue, 04 Feb 2025) EllapsedTime: 74.2 seconds RetCode: 0 Status: OK PackageFile: tLOH_1.15.0.tar.gz PackageFileSize: 2.434 MiB