Package: tLOH Version: 1.15.0 Command: /Library/Frameworks/R.framework/Resources/bin/R CMD INSTALL tLOH StartedAt: 2025-02-04 15:36:15 -0500 (Tue, 04 Feb 2025) EndedAt: 2025-02-04 15:37:13 -0500 (Tue, 04 Feb 2025) EllapsedTime: 58.2 seconds RetCode: 0 Status: OK