Package: tLOH Version: 1.15.0 Command: chmod a+r tLOH -R && E:\biocbuild\bbs-3.21-bioc\R\bin\R.exe CMD build --keep-empty-dirs --no-resave-data tLOH StartedAt: 2025-02-09 22:06:53 -0500 (Sun, 09 Feb 2025) EndedAt: 2025-02-09 22:08:28 -0500 (Sun, 09 Feb 2025) EllapsedTime: 95.0 seconds RetCode: 0 Status: OK PackageFile: tLOH_1.15.0.tar.gz PackageFileSize: 1.732 MiB