Package: tRNA Version: 1.25.0 Command: /Library/Frameworks/R.framework/Resources/bin/R CMD build --keep-empty-dirs --no-resave-data tRNA StartedAt: 2025-02-09 17:50:56 -0500 (Sun, 09 Feb 2025) EndedAt: 2025-02-09 17:51:44 -0500 (Sun, 09 Feb 2025) EllapsedTime: 48.5 seconds RetCode: 0 Status: OK PackageFile: tRNA_1.25.0.tar.gz PackageFileSize: 1.29 MiB