Package: tRNA Version: 1.25.0 Command: /Library/Frameworks/R.framework/Resources/bin/R CMD INSTALL tRNA StartedAt: 2025-02-12 15:06:05 -0500 (Wed, 12 Feb 2025) EndedAt: 2025-02-12 15:06:12 -0500 (Wed, 12 Feb 2025) EllapsedTime: 6.8 seconds RetCode: 0 Status: OK