Package: tRNA Version: 1.25.0 Command: /Library/Frameworks/R.framework/Resources/bin/R CMD build --keep-empty-dirs --no-resave-data tRNA StartedAt: 2025-02-09 18:46:47 -0500 (Sun, 09 Feb 2025) EndedAt: 2025-02-09 18:49:35 -0500 (Sun, 09 Feb 2025) EllapsedTime: 168.2 seconds RetCode: 0 Status: OK PackageFile: tRNA_1.25.0.tar.gz PackageFileSize: 1.292 MiB