Package: tRNA Version: 1.25.0 Command: /Library/Frameworks/R.framework/Resources/bin/R CMD INSTALL tRNA StartedAt: 2025-02-12 15:12:01 -0500 (Wed, 12 Feb 2025) EndedAt: 2025-02-12 15:12:25 -0500 (Wed, 12 Feb 2025) EllapsedTime: 23.7 seconds RetCode: 0 Status: OK