Package: tRNA Version: 1.25.0 Command: /home/biocbuild/bbs-3.21-bioc/R/bin/R CMD build --keep-empty-dirs --no-resave-data tRNA StartedAt: 2025-02-09 19:40:11 -0500 (Sun, 09 Feb 2025) EndedAt: 2025-02-09 19:42:52 -0500 (Sun, 09 Feb 2025) EllapsedTime: 161.2 seconds RetCode: 0 Status: OK PackageFile: tRNA_1.25.0.tar.gz PackageFileSize: 1.235 MiB