Package: tRNA Version: 1.25.0 Command: chmod a+r tRNA -R && E:\biocbuild\bbs-3.21-bioc\R\bin\R.exe CMD build --keep-empty-dirs --no-resave-data tRNA StartedAt: 2025-02-09 22:11:23 -0500 (Sun, 09 Feb 2025) EndedAt: 2025-02-09 22:14:33 -0500 (Sun, 09 Feb 2025) EllapsedTime: 190.4 seconds RetCode: 0 Status: OK PackageFile: tRNA_1.25.0.tar.gz PackageFileSize: 589.1 KiB