Package: tRNAdbImport Version: 1.25.0 Command: /Library/Frameworks/R.framework/Resources/bin/R CMD INSTALL tRNAdbImport StartedAt: 2025-02-09 15:06:18 -0500 (Sun, 09 Feb 2025) EndedAt: 2025-02-09 15:06:24 -0500 (Sun, 09 Feb 2025) EllapsedTime: 5.5 seconds RetCode: 0 Status: OK