Package: tRNAdbImport Version: 1.25.0 Command: /home/biocbuild/R/R/bin/R CMD build --keep-empty-dirs --no-resave-data tRNAdbImport StartedAt: 2025-01-28 03:02:20 -0000 (Tue, 28 Jan 2025) EndedAt: 2025-01-28 03:03:00 -0000 (Tue, 28 Jan 2025) EllapsedTime: 40.0 seconds RetCode: 0 Status: OK PackageFile: tRNAdbImport_1.25.0.tar.gz PackageFileSize: 393.3 KiB