Package: tRNAdbImport Version: 1.25.0 Command: /home/biocbuild/R/R/bin/R CMD check --install=check:tRNAdbImport.install-out.txt --library=/home/biocbuild/R/R/site-library --no-vignettes --timings tRNAdbImport_1.25.0.tar.gz StartedAt: 2025-01-27 13:41:58 -0000 (Mon, 27 Jan 2025) EndedAt: 2025-01-27 13:44:38 -0000 (Mon, 27 Jan 2025) EllapsedTime: 160.4 seconds RetCode: 0 Status: WARNINGS CheckDir: tRNAdbImport.Rcheck Warnings: 5