Package: tRNAdbImport Version: 1.25.0 Command: /Library/Frameworks/R.framework/Resources/bin/R CMD build --keep-empty-dirs --no-resave-data tRNAdbImport StartedAt: 2025-02-09 18:46:52 -0500 (Sun, 09 Feb 2025) EndedAt: 2025-02-09 18:47:33 -0500 (Sun, 09 Feb 2025) EllapsedTime: 41.2 seconds RetCode: 0 Status: OK PackageFile: tRNAdbImport_1.25.0.tar.gz PackageFileSize: 321.7 KiB