Package: tRNAdbImport Version: 1.25.0 Command: /Library/Frameworks/R.framework/Resources/bin/R CMD INSTALL tRNAdbImport StartedAt: 2025-02-09 15:12:30 -0500 (Sun, 09 Feb 2025) EndedAt: 2025-02-09 15:12:49 -0500 (Sun, 09 Feb 2025) EllapsedTime: 19.9 seconds RetCode: 0 Status: OK