Package: tRNAdbImport Version: 1.25.0 Command: /home/biocbuild/bbs-3.21-bioc/R/bin/R CMD check --install=check:tRNAdbImport.install-out.txt --library=/home/biocbuild/bbs-3.21-bioc/R/site-library --timings tRNAdbImport_1.25.0.tar.gz StartedAt: 2025-02-05 03:41:17 -0500 (Wed, 05 Feb 2025) EndedAt: 2025-02-05 03:43:13 -0500 (Wed, 05 Feb 2025) EllapsedTime: 115.2 seconds RetCode: 0 Status: OK CheckDir: tRNAdbImport.Rcheck Warnings: 0