Package: tRNAdbImport Version: 1.25.0 Command: chmod a+r tRNAdbImport -R && E:\biocbuild\bbs-3.21-bioc\R\bin\R.exe CMD build --keep-empty-dirs --no-resave-data tRNAdbImport StartedAt: 2025-02-09 22:11:35 -0500 (Sun, 09 Feb 2025) EndedAt: 2025-02-09 22:12:22 -0500 (Sun, 09 Feb 2025) EllapsedTime: 47.6 seconds RetCode: 0 Status: OK PackageFile: tRNAdbImport_1.25.0.tar.gz PackageFileSize: 322.1 KiB