Package: tRNAdbImport Version: 1.25.0 Command: E:\biocbuild\bbs-3.21-bioc\R\bin\R.exe CMD INSTALL tRNAdbImport StartedAt: 2025-02-09 15:52:39 -0500 (Sun, 09 Feb 2025) EndedAt: 2025-02-09 15:53:05 -0500 (Sun, 09 Feb 2025) EllapsedTime: 25.8 seconds RetCode: 0 Status: OK