Package: tadar Version: 1.5.1 Command: rm -rf tadar.buildbin-libdir && mkdir tadar.buildbin-libdir && /Users/biocbuild/BBS/utils/build-universal.sh tadar_1.5.1.tar.gz /Library/Frameworks/R.framework/Resources/bin/R tadar.buildbin-libdir StartedAt: 2025-02-10 01:19:52 -0500 (Mon, 10 Feb 2025) EndedAt: 2025-02-10 01:21:02 -0500 (Mon, 10 Feb 2025) EllapsedTime: 70.3 seconds RetCode: 0 Status: OK PackageFile: tadar_1.5.1.tgz PackageFileSize: 1.489 MiB