Package: tadar Version: 1.5.1 Command: /Library/Frameworks/R.framework/Resources/bin/R CMD build --keep-empty-dirs --no-resave-data tadar StartedAt: 2025-02-09 18:41:06 -0500 (Sun, 09 Feb 2025) EndedAt: 2025-02-09 18:42:49 -0500 (Sun, 09 Feb 2025) EllapsedTime: 102.5 seconds RetCode: 0 Status: OK PackageFile: tadar_1.5.1.tar.gz PackageFileSize: 1.744 MiB