Package: tadar Version: 1.5.1 Command: /Library/Frameworks/R.framework/Resources/bin/R CMD check --install=check:tadar.install-out.txt --library=/Library/Frameworks/R.framework/Resources/library --no-vignettes --timings tadar_1.5.1.tar.gz StartedAt: 2025-02-10 00:02:43 -0500 (Mon, 10 Feb 2025) EndedAt: 2025-02-10 00:11:19 -0500 (Mon, 10 Feb 2025) EllapsedTime: 515.9 seconds RetCode: 0 Status: OK CheckDir: tadar.Rcheck Warnings: 0