Package: tadar Version: 1.5.1 Command: /Library/Frameworks/R.framework/Resources/bin/R CMD INSTALL tadar StartedAt: 2025-02-09 15:28:35 -0500 (Sun, 09 Feb 2025) EndedAt: 2025-02-09 15:29:43 -0500 (Sun, 09 Feb 2025) EllapsedTime: 67.2 seconds RetCode: 0 Status: OK