Package: tadar Version: 1.5.1 Command: /home/biocbuild/bbs-3.21-bioc/R/bin/R CMD INSTALL tadar StartedAt: 2025-02-09 15:46:48 -0500 (Sun, 09 Feb 2025) EndedAt: 2025-02-09 15:47:37 -0500 (Sun, 09 Feb 2025) EllapsedTime: 49.7 seconds RetCode: 0 Status: OK