Package: tadar Version: 1.5.1 Command: E:\biocbuild\bbs-3.21-bioc\R\bin\R.exe CMD check --no-multiarch --install=check:tadar.install-out.txt --library=E:\biocbuild\bbs-3.21-bioc\R\library --no-vignettes --timings tadar_1.5.1.tar.gz StartedAt: 2025-02-10 06:04:17 -0500 (Mon, 10 Feb 2025) EndedAt: 2025-02-10 06:13:36 -0500 (Mon, 10 Feb 2025) EllapsedTime: 558.8 seconds RetCode: 0 Status: OK CheckDir: tadar.Rcheck Warnings: 0