Package: tadar Version: 1.5.1 Command: E:\biocbuild\bbs-3.21-bioc\R\bin\R.exe CMD INSTALL tadar StartedAt: 2025-02-09 16:44:30 -0500 (Sun, 09 Feb 2025) EndedAt: 2025-02-09 16:45:35 -0500 (Sun, 09 Feb 2025) EllapsedTime: 64.7 seconds RetCode: 0 Status: OK