Package: target Version: 1.21.0 Maintainer: Mahmoud Ahmed MaintainerEmail: mahmoud.s.fahmy at students.kasralainy.edu.eg git_url: https://git.bioconductor.org/packages/target git_branch: devel git_last_commit: 9383e81 git_last_commit_date: 2024-10-29 10:40:56 -0500 (Tue, 29 Oct 2024)