Package: target Version: 1.21.0 Command: /Library/Frameworks/R.framework/Resources/bin/R CMD check --install=check:target.install-out.txt --library=/Library/Frameworks/R.framework/Resources/library --no-vignettes --timings target_1.21.0.tar.gz StartedAt: 2025-02-03 22:17:43 -0500 (Mon, 03 Feb 2025) EndedAt: 2025-02-03 22:18:16 -0500 (Mon, 03 Feb 2025) EllapsedTime: 32.4 seconds RetCode: 0 Status: OK CheckDir: target.Rcheck Warnings: 0