Package: target Version: 1.21.0 Command: /Library/Frameworks/R.framework/Resources/bin/R CMD build --keep-empty-dirs --no-resave-data target StartedAt: 2025-02-04 18:32:31 -0500 (Tue, 04 Feb 2025) EndedAt: 2025-02-04 18:33:19 -0500 (Tue, 04 Feb 2025) EllapsedTime: 48.0 seconds RetCode: 0 Status: OK PackageFile: target_1.21.0.tar.gz PackageFileSize: 3.08 MiB