Package: target Version: 1.21.0 Command: /Library/Frameworks/R.framework/Resources/bin/R CMD INSTALL target StartedAt: 2025-02-04 15:38:03 -0500 (Tue, 04 Feb 2025) EndedAt: 2025-02-04 15:38:18 -0500 (Tue, 04 Feb 2025) EllapsedTime: 14.5 seconds RetCode: 0 Status: OK