Package: target Version: 1.21.0 Command: /home/biocbuild/bbs-3.21-bioc/R/bin/R CMD INSTALL target StartedAt: 2025-02-09 15:55:43 -0500 (Sun, 09 Feb 2025) EndedAt: 2025-02-09 15:55:53 -0500 (Sun, 09 Feb 2025) EllapsedTime: 10.5 seconds RetCode: 0 Status: OK