Package: target Version: 1.21.0 Command: rm -rf target.buildbin-libdir && mkdir target.buildbin-libdir && E:\biocbuild\bbs-3.21-bioc\R\bin\R.exe CMD INSTALL --build --library=target.buildbin-libdir target_1.21.0.tar.gz StartedAt: 2025-02-04 09:03:50 -0500 (Tue, 04 Feb 2025) EndedAt: 2025-02-04 09:04:13 -0500 (Tue, 04 Feb 2025) EllapsedTime: 23.5 seconds RetCode: 0 Status: OK PackageFile: target_1.21.0.zip PackageFileSize: 3.128 MiB