Package: target Version: 1.21.0 Command: chmod a+r target -R && E:\biocbuild\bbs-3.21-bioc\R\bin\R.exe CMD build --keep-empty-dirs --no-resave-data target StartedAt: 2025-02-09 22:01:50 -0500 (Sun, 09 Feb 2025) EndedAt: 2025-02-09 22:02:59 -0500 (Sun, 09 Feb 2025) EllapsedTime: 69.6 seconds RetCode: 0 Status: OK PackageFile: target_1.21.0.tar.gz PackageFileSize: 2.899 MiB