Package: target Version: 1.21.0 Command: E:\biocbuild\bbs-3.21-bioc\R\bin\R.exe CMD INSTALL target StartedAt: 2025-02-03 16:16:26 -0500 (Mon, 03 Feb 2025) EndedAt: 2025-02-03 16:16:49 -0500 (Mon, 03 Feb 2025) EllapsedTime: 23.5 seconds RetCode: 0 Status: OK