Package: ternarynet Version: 1.51.0 Command: /Library/Frameworks/R.framework/Resources/bin/R CMD INSTALL ternarynet StartedAt: 2025-02-09 15:07:15 -0500 (Sun, 09 Feb 2025) EndedAt: 2025-02-09 15:07:16 -0500 (Sun, 09 Feb 2025) EllapsedTime: 1.1 seconds RetCode: 1 Status: ERROR