Package: ternarynet Version: 1.51.0 Command: /home/biocbuild/R/R/bin/R CMD INSTALL ternarynet StartedAt: 2025-01-29 19:44:50 -0000 (Wed, 29 Jan 2025) EndedAt: 2025-01-29 19:44:53 -0000 (Wed, 29 Jan 2025) EllapsedTime: 3.2 seconds RetCode: 1 Status: ERROR